Package: SDAMS Version: 1.27.0 Command: /home/biocbuild/bbs-3.21-bioc/R/bin/R CMD INSTALL SDAMS StartedAt: 2025-02-12 15:30:42 -0500 (Wed, 12 Feb 2025) EndedAt: 2025-02-12 15:31:11 -0500 (Wed, 12 Feb 2025) EllapsedTime: 29.1 seconds RetCode: 0 Status: OK