Package: SDAMS Version: 1.27.0 Command: chmod a+r SDAMS -R && E:\biocbuild\bbs-3.21-bioc\R\bin\R.exe CMD build --keep-empty-dirs --no-resave-data SDAMS StartedAt: 2025-02-12 21:41:23 -0500 (Wed, 12 Feb 2025) EndedAt: 2025-02-12 21:42:39 -0500 (Wed, 12 Feb 2025) EllapsedTime: 75.6 seconds RetCode: 0 Status: OK PackageFile: SDAMS_1.27.0.tar.gz PackageFileSize: 1.144 MiB