Package: SDAMS Version: 1.27.0 Command: E:\biocbuild\bbs-3.21-bioc\R\bin\R.exe CMD check --no-multiarch --install=check:SDAMS.install-out.txt --library=E:\biocbuild\bbs-3.21-bioc\R\library --no-vignettes --timings SDAMS_1.27.0.tar.gz StartedAt: 2025-02-10 05:17:51 -0500 (Mon, 10 Feb 2025) EndedAt: 2025-02-10 05:22:14 -0500 (Mon, 10 Feb 2025) EllapsedTime: 262.9 seconds RetCode: 0 Status: OK CheckDir: SDAMS.Rcheck Warnings: 0