Package: SDAMS Version: 1.27.0 Command: E:\biocbuild\bbs-3.21-bioc\R\bin\R.exe CMD INSTALL SDAMS StartedAt: 2025-02-09 16:12:02 -0500 (Sun, 09 Feb 2025) EndedAt: 2025-02-09 16:12:35 -0500 (Sun, 09 Feb 2025) EllapsedTime: 33.0 seconds RetCode: 0 Status: OK