Package: SELEX Version: 1.39.0 Command: rm -rf SELEX.buildbin-libdir && mkdir SELEX.buildbin-libdir && /Users/biocbuild/BBS/utils/build-universal.sh SELEX_1.39.0.tar.gz /Library/Frameworks/R.framework/Resources/bin/R SELEX.buildbin-libdir StartedAt: 2025-02-12 22:35:46 -0500 (Wed, 12 Feb 2025) EndedAt: 2025-02-12 22:35:51 -0500 (Wed, 12 Feb 2025) EllapsedTime: 5.1 seconds RetCode: 0 Status: OK PackageFile: SELEX_1.39.0.tgz PackageFileSize: 2.867 MiB