Package: SELEX Version: 1.39.0 Command: /Library/Frameworks/R.framework/Resources/bin/R CMD build --keep-empty-dirs --no-resave-data SELEX StartedAt: 2025-02-09 17:35:34 -0500 (Sun, 09 Feb 2025) EndedAt: 2025-02-09 17:35:47 -0500 (Sun, 09 Feb 2025) EllapsedTime: 13.1 seconds RetCode: 0 Status: OK PackageFile: SELEX_1.39.0.tar.gz PackageFileSize: 4.034 MiB