Package: SELEX Version: 1.39.0 Command: /Library/Frameworks/R.framework/Resources/bin/R CMD check --install=check:SELEX.install-out.txt --library=/Library/Frameworks/R.framework/Resources/library --no-vignettes --timings SELEX_1.39.0.tar.gz StartedAt: 2025-02-12 23:17:43 -0500 (Wed, 12 Feb 2025) EndedAt: 2025-02-12 23:19:39 -0500 (Wed, 12 Feb 2025) EllapsedTime: 115.6 seconds RetCode: 0 Status: OK CheckDir: SELEX.Rcheck Warnings: 0