Package: SELEX Version: 1.39.0 Command: chmod a+r SELEX -R && E:\biocbuild\bbs-3.21-bioc\R\bin\R.exe CMD build --keep-empty-dirs --no-resave-data SELEX StartedAt: 2025-02-09 21:35:43 -0500 (Sun, 09 Feb 2025) EndedAt: 2025-02-09 21:36:28 -0500 (Sun, 09 Feb 2025) EllapsedTime: 45.3 seconds RetCode: 0 Status: OK PackageFile: SELEX_1.39.0.tar.gz PackageFileSize: 4.109 MiB