Package: SELEX Version: 1.39.0 Command: E:\biocbuild\bbs-3.21-bioc\R\bin\R.exe CMD INSTALL SELEX StartedAt: 2025-02-12 15:42:23 -0500 (Wed, 12 Feb 2025) EndedAt: 2025-02-12 15:42:47 -0500 (Wed, 12 Feb 2025) EllapsedTime: 23.6 seconds RetCode: 0 Status: OK