Package: SGCP Version: 1.7.0 Command: rm -rf SGCP.buildbin-libdir && mkdir SGCP.buildbin-libdir && /Users/biocbuild/BBS/utils/build-universal.sh SGCP_1.7.0.tar.gz /Library/Frameworks/R.framework/Resources/bin/R SGCP.buildbin-libdir StartedAt: 2025-02-05 22:35:46 -0500 (Wed, 05 Feb 2025) EndedAt: 2025-02-05 22:36:08 -0500 (Wed, 05 Feb 2025) EllapsedTime: 22.6 seconds RetCode: 0 Status: OK PackageFile: SGCP_1.7.0.tgz PackageFileSize: 4.022 MiB