Package: SGCP Version: 1.7.0 Command: /home/biocbuild/R/R/bin/R CMD build --keep-empty-dirs --no-resave-data SGCP StartedAt: 2025-01-29 02:19:49 -0000 (Wed, 29 Jan 2025) EndedAt: 2025-01-29 02:24:50 -0000 (Wed, 29 Jan 2025) EllapsedTime: 300.3 seconds RetCode: 0 Status: OK PackageFile: SGCP_1.7.0.tar.gz PackageFileSize: 1.712 MiB