Package: SGCP Version: 1.7.0 Command: /home/biocbuild/R/R/bin/R CMD INSTALL SGCP StartedAt: 2025-01-29 20:32:03 -0000 (Wed, 29 Jan 2025) EndedAt: 2025-01-29 20:33:15 -0000 (Wed, 29 Jan 2025) EllapsedTime: 72.3 seconds RetCode: 0 Status: OK