Package: SGCP Version: 1.7.0 Command: /Library/Frameworks/R.framework/Resources/bin/R CMD check --install=check:SGCP.install-out.txt --library=/Library/Frameworks/R.framework/Resources/library --no-vignettes --timings SGCP_1.7.0.tar.gz StartedAt: 2025-02-05 23:14:46 -0500 (Wed, 05 Feb 2025) EndedAt: 2025-02-05 23:20:24 -0500 (Wed, 05 Feb 2025) EllapsedTime: 338.4 seconds RetCode: 0 Status: OK CheckDir: SGCP.Rcheck Warnings: 0