Package: SGCP Version: 1.7.0 Command: /Library/Frameworks/R.framework/Resources/bin/R CMD INSTALL SGCP StartedAt: 2025-02-05 15:40:55 -0500 (Wed, 05 Feb 2025) EndedAt: 2025-02-05 15:42:04 -0500 (Wed, 05 Feb 2025) EllapsedTime: 69.1 seconds RetCode: 0 Status: OK