Package: SGCP Version: 1.7.0 Command: /home/biocbuild/bbs-3.21-bioc/R/bin/R CMD build --keep-empty-dirs --no-resave-data SGCP StartedAt: 2025-02-05 19:15:54 -0500 (Wed, 05 Feb 2025) EndedAt: 2025-02-05 19:17:50 -0500 (Wed, 05 Feb 2025) EllapsedTime: 115.2 seconds RetCode: 0 Status: OK PackageFile: SGCP_1.7.0.tar.gz PackageFileSize: 2.895 MiB