Package: SGCP Version: 1.7.0 Command: /home/biocbuild/bbs-3.21-bioc/R/bin/R CMD check --install=check:SGCP.install-out.txt --library=/home/biocbuild/bbs-3.21-bioc/R/site-library --timings SGCP_1.7.0.tar.gz StartedAt: 2025-02-06 02:39:31 -0500 (Thu, 06 Feb 2025) EndedAt: 2025-02-06 02:45:19 -0500 (Thu, 06 Feb 2025) EllapsedTime: 347.6 seconds RetCode: 0 Status: OK CheckDir: SGCP.Rcheck Warnings: 0