Package: SGCP Version: 1.7.0 Command: /home/biocbuild/bbs-3.21-bioc/R/bin/R CMD INSTALL SGCP StartedAt: 2025-02-05 15:38:58 -0500 (Wed, 05 Feb 2025) EndedAt: 2025-02-05 15:39:50 -0500 (Wed, 05 Feb 2025) EllapsedTime: 52.5 seconds RetCode: 0 Status: OK