Package: SGCP Version: 1.7.0 Command: rm -rf SGCP.buildbin-libdir && mkdir SGCP.buildbin-libdir && E:\biocbuild\bbs-3.21-bioc\R\bin\R.exe CMD INSTALL --build --library=SGCP.buildbin-libdir SGCP_1.7.0.tar.gz StartedAt: 2025-02-06 09:01:45 -0500 (Thu, 06 Feb 2025) EndedAt: 2025-02-06 09:03:36 -0500 (Thu, 06 Feb 2025) EllapsedTime: 110.7 seconds RetCode: 0 Status: OK PackageFile: SGCP_1.7.0.zip PackageFileSize: 2.633 MiB