Package: SGCP Version: 1.7.0 Command: chmod a+r SGCP -R && E:\biocbuild\bbs-3.21-bioc\R\bin\R.exe CMD build --keep-empty-dirs --no-resave-data SGCP StartedAt: 2025-02-05 21:44:29 -0500 (Wed, 05 Feb 2025) EndedAt: 2025-02-05 21:47:19 -0500 (Wed, 05 Feb 2025) EllapsedTime: 170.3 seconds RetCode: 0 Status: OK PackageFile: SGCP_1.7.0.tar.gz PackageFileSize: 1.293 MiB