Package: SGCP Version: 1.7.0 Command: E:\biocbuild\bbs-3.21-bioc\R\bin\R.exe CMD check --no-multiarch --install=check:SGCP.install-out.txt --library=E:\biocbuild\bbs-3.21-bioc\R\library --no-vignettes --timings SGCP_1.7.0.tar.gz StartedAt: 2025-02-06 05:53:32 -0500 (Thu, 06 Feb 2025) EndedAt: 2025-02-06 05:59:21 -0500 (Thu, 06 Feb 2025) EllapsedTime: 348.8 seconds RetCode: 0 Status: OK CheckDir: SGCP.Rcheck Warnings: 0