Package: SIAMCAT Version: 2.11.0 Command: rm -rf SIAMCAT.buildbin-libdir && mkdir SIAMCAT.buildbin-libdir && /Users/biocbuild/BBS/utils/build-universal.sh SIAMCAT_2.11.0.tar.gz /Library/Frameworks/R.framework/Resources/bin/R SIAMCAT.buildbin-libdir StartedAt: 2025-02-09 22:30:59 -0500 (Sun, 09 Feb 2025) EndedAt: 2025-02-09 22:31:12 -0500 (Sun, 09 Feb 2025) EllapsedTime: 13.3 seconds RetCode: 0 Status: OK PackageFile: SIAMCAT_2.11.0.tgz PackageFileSize: 10.77 MiB