Package: SIAMCAT Version: 2.11.0 Command: /Library/Frameworks/R.framework/Resources/bin/R CMD build --keep-empty-dirs --no-resave-data SIAMCAT StartedAt: 2025-02-09 17:36:55 -0500 (Sun, 09 Feb 2025) EndedAt: 2025-02-09 17:38:23 -0500 (Sun, 09 Feb 2025) EllapsedTime: 88.1 seconds RetCode: 0 Status: OK PackageFile: SIAMCAT_2.11.0.tar.gz PackageFileSize: 18.86 MiB