Package: SIAMCAT Version: 2.11.0 Command: /home/biocbuild/R/R/bin/R CMD check --install=check:SIAMCAT.install-out.txt --library=/home/biocbuild/R/R/site-library --no-vignettes --timings SIAMCAT_2.11.0.tar.gz StartedAt: 2025-01-28 15:18:54 -0000 (Tue, 28 Jan 2025) EndedAt: 2025-01-28 15:24:49 -0000 (Tue, 28 Jan 2025) EllapsedTime: 354.5 seconds RetCode: 0 Status: OK CheckDir: SIAMCAT.Rcheck Warnings: 0