Package: SIAMCAT Version: 2.11.0 Command: /home/biocbuild/R/R/bin/R CMD INSTALL SIAMCAT StartedAt: 2025-01-29 20:22:41 -0000 (Wed, 29 Jan 2025) EndedAt: 2025-01-29 20:23:22 -0000 (Wed, 29 Jan 2025) EllapsedTime: 41.5 seconds RetCode: 0 Status: OK