Package: SIAMCAT Version: 2.11.0 Command: rm -rf SIAMCAT.buildbin-libdir && mkdir SIAMCAT.buildbin-libdir && /Users/biocbuild/BBS/utils/build-universal.sh SIAMCAT_2.11.0.tar.gz /Library/Frameworks/R.framework/Resources/bin/R SIAMCAT.buildbin-libdir StartedAt: 2025-02-10 01:16:35 -0500 (Mon, 10 Feb 2025) EndedAt: 2025-02-10 01:17:22 -0500 (Mon, 10 Feb 2025) EllapsedTime: 47.0 seconds RetCode: 0 Status: OK PackageFile: SIAMCAT_2.11.0.tgz PackageFileSize: 10.76 MiB