Package: SIAMCAT Version: 2.11.0 Command: /Library/Frameworks/R.framework/Resources/bin/R CMD check --install=check:SIAMCAT.install-out.txt --library=/Library/Frameworks/R.framework/Resources/library --no-vignettes --timings SIAMCAT_2.11.0.tar.gz StartedAt: 2025-02-09 23:37:37 -0500 (Sun, 09 Feb 2025) EndedAt: 2025-02-09 23:42:51 -0500 (Sun, 09 Feb 2025) EllapsedTime: 313.8 seconds RetCode: 0 Status: OK CheckDir: SIAMCAT.Rcheck Warnings: 0