Package: SIAMCAT Version: 2.11.0 Command: /home/biocbuild/bbs-3.21-bioc/R/bin/R CMD build --keep-empty-dirs --no-resave-data SIAMCAT StartedAt: 2025-02-09 19:16:33 -0500 (Sun, 09 Feb 2025) EndedAt: 2025-02-09 19:19:37 -0500 (Sun, 09 Feb 2025) EllapsedTime: 184.2 seconds RetCode: 0 Status: OK PackageFile: SIAMCAT_2.11.0.tar.gz PackageFileSize: 18.85 MiB