Package: SIAMCAT Version: 2.11.0 Command: chmod a+r SIAMCAT -R && E:\biocbuild\bbs-3.21-bioc\R\bin\R.exe CMD build --keep-empty-dirs --no-resave-data SIAMCAT StartedAt: 2025-02-04 21:41:10 -0500 (Tue, 04 Feb 2025) EndedAt: 2025-02-04 21:47:16 -0500 (Tue, 04 Feb 2025) EllapsedTime: 366.3 seconds RetCode: 0 Status: OK PackageFile: SIAMCAT_2.11.0.tar.gz PackageFileSize: 18.5 MiB