Package: SIAMCAT Version: 2.11.0 Command: E:\biocbuild\bbs-3.21-bioc\R\bin\R.exe CMD INSTALL SIAMCAT StartedAt: 2025-02-09 16:03:15 -0500 (Sun, 09 Feb 2025) EndedAt: 2025-02-09 16:04:38 -0500 (Sun, 09 Feb 2025) EllapsedTime: 82.9 seconds RetCode: 0 Status: OK