Package: SIM Version: 1.77.0 Command: /home/biocbuild/R/R/bin/R CMD build --keep-empty-dirs --no-resave-data SIM StartedAt: 2025-01-29 02:22:06 -0000 (Wed, 29 Jan 2025) EndedAt: 2025-01-29 02:22:51 -0000 (Wed, 29 Jan 2025) EllapsedTime: 45.1 seconds RetCode: 0 Status: OK PackageFile: SIM_1.77.0.tar.gz PackageFileSize: 455.5 KiB