Package: SIM Version: 1.77.0 Command: rm -rf SIM.buildbin-libdir && mkdir SIM.buildbin-libdir && /Users/biocbuild/BBS/utils/build-universal.sh SIM_1.77.0.tar.gz /Library/Frameworks/R.framework/Resources/bin/R SIM.buildbin-libdir StartedAt: 2025-02-10 01:16:58 -0500 (Mon, 10 Feb 2025) EndedAt: 2025-02-10 01:17:30 -0500 (Mon, 10 Feb 2025) EllapsedTime: 32.1 seconds RetCode: 0 Status: OK PackageFile: SIM_1.77.0.tgz PackageFileSize: 617.4 KiB