Package: SIM Version: 1.77.0 Command: /Library/Frameworks/R.framework/Resources/bin/R CMD INSTALL SIM StartedAt: 2025-02-03 15:39:40 -0500 (Mon, 03 Feb 2025) EndedAt: 2025-02-03 15:40:07 -0500 (Mon, 03 Feb 2025) EllapsedTime: 27.2 seconds RetCode: 0 Status: OK