Package: SIM Version: 1.77.0 Command: /home/biocbuild/bbs-3.21-bioc/R/bin/R CMD build --keep-empty-dirs --no-resave-data SIM StartedAt: 2025-02-09 19:17:32 -0500 (Sun, 09 Feb 2025) EndedAt: 2025-02-09 19:18:06 -0500 (Sun, 09 Feb 2025) EllapsedTime: 34.1 seconds RetCode: 0 Status: OK PackageFile: SIM_1.77.0.tar.gz PackageFileSize: 461.4 KiB