Package: SIM Version: 1.77.0 Command: /home/biocbuild/bbs-3.21-bioc/R/bin/R CMD check --install=check:SIM.install-out.txt --library=/home/biocbuild/bbs-3.21-bioc/R/site-library --timings SIM_1.77.0.tar.gz StartedAt: 2025-02-10 02:40:16 -0500 (Mon, 10 Feb 2025) EndedAt: 2025-02-10 02:42:50 -0500 (Mon, 10 Feb 2025) EllapsedTime: 154.2 seconds RetCode: 0 Status: WARNINGS CheckDir: SIM.Rcheck Warnings: 1