Package: SIM Version: 1.77.0 Command: /home/biocbuild/bbs-3.21-bioc/R/bin/R CMD INSTALL SIM StartedAt: 2025-02-03 15:37:35 -0500 (Mon, 03 Feb 2025) EndedAt: 2025-02-03 15:37:54 -0500 (Mon, 03 Feb 2025) EllapsedTime: 18.9 seconds RetCode: 0 Status: OK