Package: SIM Version: 1.77.0 Command: chmod a+r SIM -R && E:\biocbuild\bbs-3.21-bioc\R\bin\R.exe CMD build --keep-empty-dirs --no-resave-data SIM StartedAt: 2025-02-03 21:53:38 -0500 (Mon, 03 Feb 2025) EndedAt: 2025-02-03 21:54:45 -0500 (Mon, 03 Feb 2025) EllapsedTime: 66.8 seconds RetCode: 0 Status: OK PackageFile: SIM_1.77.0.tar.gz PackageFileSize: 323.8 KiB