Package: SIMAT Version: 1.39.0 Maintainer: M. R. Nezami Ranjbar MaintainerEmail: nranjbar at vt.edu git_url: https://git.bioconductor.org/packages/SIMAT git_branch: devel git_last_commit: bb9e288 git_last_commit_date: 2024-10-29 09:59:21 -0500 (Tue, 29 Oct 2024)