Package: SIMAT Version: 1.39.0 Command: /Library/Frameworks/R.framework/Resources/bin/R CMD check --install=check:SIMAT.install-out.txt --library=/Library/Frameworks/R.framework/Resources/library --no-vignettes --timings SIMAT_1.39.0.tar.gz StartedAt: 2025-02-09 21:22:52 -0500 (Sun, 09 Feb 2025) EndedAt: 2025-02-09 21:23:19 -0500 (Sun, 09 Feb 2025) EllapsedTime: 26.4 seconds RetCode: 0 Status: OK CheckDir: SIMAT.Rcheck Warnings: 0