Package: SIMAT Version: 1.39.0 Command: /Library/Frameworks/R.framework/Resources/bin/R CMD check --install=check:SIMAT.install-out.txt --library=/Library/Frameworks/R.framework/Resources/library --no-vignettes --timings SIMAT_1.39.0.tar.gz StartedAt: 2025-02-09 23:39:12 -0500 (Sun, 09 Feb 2025) EndedAt: 2025-02-09 23:40:30 -0500 (Sun, 09 Feb 2025) EllapsedTime: 78.4 seconds RetCode: 0 Status: OK CheckDir: SIMAT.Rcheck Warnings: 0