Package: SIMAT Version: 1.39.0 Command: /Library/Frameworks/R.framework/Resources/bin/R CMD INSTALL SIMAT StartedAt: 2025-02-09 15:18:38 -0500 (Sun, 09 Feb 2025) EndedAt: 2025-02-09 15:18:48 -0500 (Sun, 09 Feb 2025) EllapsedTime: 10.4 seconds RetCode: 0 Status: OK