Package: SIMAT Version: 1.39.0 Command: /home/biocbuild/bbs-3.21-bioc/R/bin/R CMD build --keep-empty-dirs --no-resave-data SIMAT StartedAt: 2025-02-09 19:17:35 -0500 (Sun, 09 Feb 2025) EndedAt: 2025-02-09 19:17:52 -0500 (Sun, 09 Feb 2025) EllapsedTime: 17.0 seconds RetCode: 0 Status: OK PackageFile: SIMAT_1.39.0.tar.gz PackageFileSize: 1.038 MiB