Package: SIMAT Version: 1.39.0 Command: rm -rf SIMAT.buildbin-libdir && mkdir SIMAT.buildbin-libdir && E:\biocbuild\bbs-3.21-bioc\R\bin\R.exe CMD INSTALL --build --library=SIMAT.buildbin-libdir SIMAT_1.39.0.tar.gz StartedAt: 2025-02-05 08:55:58 -0500 (Wed, 05 Feb 2025) EndedAt: 2025-02-05 08:56:11 -0500 (Wed, 05 Feb 2025) EllapsedTime: 13.7 seconds RetCode: 0 Status: OK PackageFile: SIMAT_1.39.0.zip PackageFileSize: 1.073 MiB