Package: SIMAT Version: 1.39.0 Command: chmod a+r SIMAT -R && E:\biocbuild\bbs-3.21-bioc\R\bin\R.exe CMD build --keep-empty-dirs --no-resave-data SIMAT StartedAt: 2025-02-09 21:41:32 -0500 (Sun, 09 Feb 2025) EndedAt: 2025-02-09 21:42:05 -0500 (Sun, 09 Feb 2025) EllapsedTime: 33.0 seconds RetCode: 0 Status: OK PackageFile: SIMAT_1.39.0.tar.gz PackageFileSize: 1002 KiB