Package: SIMAT Version: 1.39.0 Command: E:\biocbuild\bbs-3.21-bioc\R\bin\R.exe CMD check --no-multiarch --install=check:SIMAT.install-out.txt --library=E:\biocbuild\bbs-3.21-bioc\R\library --no-vignettes --timings SIMAT_1.39.0.tar.gz StartedAt: 2025-02-10 05:28:56 -0500 (Mon, 10 Feb 2025) EndedAt: 2025-02-10 05:30:15 -0500 (Mon, 10 Feb 2025) EllapsedTime: 78.9 seconds RetCode: 0 Status: OK CheckDir: SIMAT.Rcheck Warnings: 0