Package: SIMAT Version: 1.39.0 Command: E:\biocbuild\bbs-3.21-bioc\R\bin\R.exe CMD INSTALL SIMAT StartedAt: 2025-02-09 15:47:11 -0500 (Sun, 09 Feb 2025) EndedAt: 2025-02-09 15:47:33 -0500 (Sun, 09 Feb 2025) EllapsedTime: 21.7 seconds RetCode: 0 Status: OK