Package: SMAD Version: 1.23.0 Maintainer: Qingzhou Zhang MaintainerEmail: zqzneptune at hotmail.com git_url: https://git.bioconductor.org/packages/SMAD git_branch: devel git_last_commit: 78f48cf git_last_commit_date: 2024-10-29 10:34:23 -0500 (Tue, 29 Oct 2024)