Package: SMAD Version: 1.23.0 Command: rm -rf SMAD.buildbin-libdir && mkdir SMAD.buildbin-libdir && /Users/biocbuild/BBS/utils/build-universal.sh SMAD_1.23.0.tar.gz /Library/Frameworks/R.framework/Resources/bin/R SMAD.buildbin-libdir StartedAt: 2025-02-03 23:07:16 -0500 (Mon, 03 Feb 2025) EndedAt: 2025-02-03 23:07:22 -0500 (Mon, 03 Feb 2025) EllapsedTime: 6.2 seconds RetCode: 0 Status: OK PackageFile: SMAD_1.23.0.tgz PackageFileSize: 467.3 KiB