Package: SMAD Version: 1.23.0 Command: /Library/Frameworks/R.framework/Resources/bin/R CMD build --keep-empty-dirs --no-resave-data SMAD StartedAt: 2025-02-09 17:38:48 -0500 (Sun, 09 Feb 2025) EndedAt: 2025-02-09 17:38:56 -0500 (Sun, 09 Feb 2025) EllapsedTime: 8.1 seconds RetCode: 0 Status: OK PackageFile: SMAD_1.23.0.tar.gz PackageFileSize: 397 KiB