Package: SMAD Version: 1.23.0 Command: /Library/Frameworks/R.framework/Resources/bin/R CMD check --install=check:SMAD.install-out.txt --library=/Library/Frameworks/R.framework/Resources/library --no-vignettes --timings SMAD_1.23.0.tar.gz StartedAt: 2025-02-03 22:02:07 -0500 (Mon, 03 Feb 2025) EndedAt: 2025-02-03 22:02:30 -0500 (Mon, 03 Feb 2025) EllapsedTime: 23.3 seconds RetCode: 0 Status: WARNINGS CheckDir: SMAD.Rcheck Warnings: 1