Package: SMAD Version: 1.23.0 Command: /home/biocbuild/R/R/bin/R CMD build --keep-empty-dirs --no-resave-data SMAD StartedAt: 2025-01-29 02:26:21 -0000 (Wed, 29 Jan 2025) EndedAt: 2025-01-29 02:26:54 -0000 (Wed, 29 Jan 2025) EllapsedTime: 33.0 seconds RetCode: 0 Status: OK PackageFile: SMAD_1.23.0.tar.gz PackageFileSize: 450.1 KiB